BEGIN:VCALENDAR
VERSION:2.0
PRODID:www.hss.de
X-PUBLISHED-TTL:P1W
BEGIN:VEVENT
UID:69ea2067668a5
DTSTART:20250212T110000Z
SEQUENCE:0
TRANSP:OPAQUE
DTEND:20250212T114000Z
LOCATION:HSSdigital
SUMMARY:Online-Seminar Energie - Abfall: der unterschätzte Wertstoff - Abf
 allheizkraftwerk
CLASS:PUBLIC
DESCRIPTION:Veranstaltung: https://www.hss.de/veranstaltungen/online-semina
 r-energie-abfall-der-unterschaetzte-wertstoff-abfallheizkraftwerk-32503075
 13/\nMeine Veranstaltungen: https://www.hss.de/meine-veranstaltungen/
DTSTAMP:20260423T133639Z
END:VEVENT
END:VCALENDAR