BEGIN:VCALENDAR
VERSION:2.0
PRODID:www.hss.de
X-PUBLISHED-TTL:P1W
BEGIN:VEVENT
UID:69e751039c0ca
DTSTART:20251105T170000Z
SEQUENCE:0
TRANSP:OPAQUE
DTEND:20251105T190000Z
LOCATION:HSSdigital
SUMMARY:Online-Seminar: Erfolgreiches Meeting
CLASS:PUBLIC
DESCRIPTION:Veranstaltung: https://www.hss.de/veranstaltungen/online-semina
 r-erfolgreiches-meeting-3250301106/\nMeine Veranstaltungen: https://www.hs
 s.de/meine-veranstaltungen/
DTSTAMP:20260421T102715Z
END:VEVENT
END:VCALENDAR