BEGIN:VCALENDAR
VERSION:2.0
PRODID:www.hss.de
X-PUBLISHED-TTL:P1W
BEGIN:VEVENT
UID:69e5417ee22d9
DTSTART:20251119T170000Z
SEQUENCE:0
TRANSP:OPAQUE
DTEND:20251119T190000Z
LOCATION:HSSdigital
SUMMARY:Online-Seminar: Erfolgreiches Netzwerken
CLASS:PUBLIC
DESCRIPTION:Veranstaltung: https://www.hss.de/veranstaltungen/online-semina
 r-erfolgreiches-netzwerken-3250301107/\nMeine Veranstaltungen: https://www
 .hss.de/meine-veranstaltungen/
DTSTAMP:20260419T205631Z
END:VEVENT
END:VCALENDAR