BEGIN:VCALENDAR
VERSION:2.0
PRODID:www.hss.de
X-PUBLISHED-TTL:P1W
BEGIN:VEVENT
UID:69e7cadb88b1c
DTSTART:20251015T160000Z
SEQUENCE:0
TRANSP:OPAQUE
DTEND:20251015T180000Z
LOCATION:HSSdigital
SUMMARY:Online-Seminar: Erfolgreiches Selbstmanagement
CLASS:PUBLIC
DESCRIPTION:Veranstaltung: https://www.hss.de/veranstaltungen/online-semina
 r-erfolgreiches-selbstmanagement-3250301104/\nMeine Veranstaltungen: https
 ://www.hss.de/meine-veranstaltungen/
DTSTAMP:20260421T190707Z
END:VEVENT
END:VCALENDAR