BEGIN:VCALENDAR
VERSION:2.0
PRODID:www.hss.de
X-PUBLISHED-TTL:P1W
BEGIN:VEVENT
UID:69e903184d392
DTSTART:20251029T170000Z
SEQUENCE:0
TRANSP:OPAQUE
DTEND:20251029T190000Z
LOCATION:HSSdigital
SUMMARY:Online-Seminar: Erfolgreiches Selbstmarketing
CLASS:PUBLIC
DESCRIPTION:Veranstaltung: https://www.hss.de/veranstaltungen/online-semina
 r-erfolgreiches-selbstmarketing-3250301105/\nMeine Veranstaltungen: https:
 //www.hss.de/meine-veranstaltungen/
DTSTAMP:20260422T171920Z
END:VEVENT
END:VCALENDAR