BEGIN:VCALENDAR
VERSION:2.0
PRODID:www.hss.de
X-PUBLISHED-TTL:P1W
BEGIN:VEVENT
UID:69e50b7e983b5
DTSTART:20210508T080000Z
SEQUENCE:0
TRANSP:OPAQUE
DTEND:20210508T100000Z
LOCATION:HSSdigital
SUMMARY:Online-Seminar: Fakes - aufspüren\, erkennen\, entlarven!
CLASS:PUBLIC
DESCRIPTION:Veranstaltung: https://www.hss.de/veranstaltungen/online-semina
 r-fakes-aufspueren-erkennen-entlarven-3210303361/\nMeine Veranstaltungen: 
 https://www.hss.de/meine-veranstaltungen/
DTSTAMP:20260419T170606Z
END:VEVENT
END:VCALENDAR