BEGIN:VCALENDAR
VERSION:2.0
PRODID:www.hss.de
X-PUBLISHED-TTL:P1W
BEGIN:VEVENT
UID:69e794650423c
DTSTART:20260318T180000Z
SEQUENCE:0
TRANSP:OPAQUE
DTEND:20260318T193000Z
LOCATION:HSSdigital
SUMMARY:Online-Seminar für Frauen: Altersvorsorge für Frauen
CLASS:PUBLIC
DESCRIPTION:Veranstaltung: https://www.hss.de/veranstaltungen/online-semina
 r-fuer-frauen-altersvorsorge-fuer-frauen-3260307908/\nMeine Veranstaltunge
 n: https://www.hss.de/meine-veranstaltungen/
DTSTAMP:20260421T151445Z
END:VEVENT
END:VCALENDAR