BEGIN:VCALENDAR
VERSION:2.0
PRODID:www.hss.de
X-PUBLISHED-TTL:P1W
BEGIN:VEVENT
UID:69e5c5a67a437
DTSTART:20260707T170000Z
SEQUENCE:0
TRANSP:OPAQUE
DTEND:20260707T183000Z
LOCATION:HSSdigital
SUMMARY:Online-Seminar für Frauen: Bewerbungstraining - schriftlich und m
 ündlich
CLASS:PUBLIC
DESCRIPTION:Veranstaltung: https://www.hss.de/veranstaltungen/online-semina
 r-fuer-frauen-bewerbungstraining-schriftlich-und-muendlich-3260307909/\nMe
 ine Veranstaltungen: https://www.hss.de/meine-veranstaltungen/
DTSTAMP:20260420T062022Z
END:VEVENT
END:VCALENDAR