BEGIN:VCALENDAR
VERSION:2.0
PRODID:www.hss.de
X-PUBLISHED-TTL:P1W
BEGIN:VEVENT
UID:69e96ab2beaae
DTSTART:20250623T173000Z
SEQUENCE:0
TRANSP:OPAQUE
DTEND:20250623T190000Z
LOCATION:HSSdigital
SUMMARY:Online-Seminar für Frauen: Geburtshilfe in der Krise - Wie können
  wir die Qualität in Bayern weiterhin sichern!
CLASS:PUBLIC
DESCRIPTION:Veranstaltung: https://www.hss.de/veranstaltungen/online-semina
 r-fuer-frauen-geburtshilfe-in-der-krise-wie-koennen-wir-die-qualitaet-in-b
 ayern-weiterhin-sichern-3250307922/\nMeine Veranstaltungen: https://www.hs
 s.de/meine-veranstaltungen/
DTSTAMP:20260423T004122Z
END:VEVENT
END:VCALENDAR