BEGIN:VCALENDAR
VERSION:2.0
PRODID:www.hss.de
X-PUBLISHED-TTL:P1W
BEGIN:VEVENT
UID:69e812aa9a44c
DTSTART:20260428T170000Z
SEQUENCE:0
TRANSP:OPAQUE
DTEND:20260428T190000Z
LOCATION:HSSdigital
SUMMARY:Online-Seminar für Frauen: Ihre Stimme rhetorisch erfolgreich eins
 etzen
CLASS:PUBLIC
DESCRIPTION:Veranstaltung: https://www.hss.de/veranstaltungen/online-semina
 r-fuer-frauen-ihre-stimme-rhetorisch-erfolgreich-einsetzen-3260307910/\nMe
 ine Veranstaltungen: https://www.hss.de/meine-veranstaltungen/
DTSTAMP:20260422T001330Z
END:VEVENT
END:VCALENDAR