BEGIN:VCALENDAR
VERSION:2.0
PRODID:www.hss.de
X-PUBLISHED-TTL:P1W
BEGIN:VEVENT
UID:69e695df685f2
DTSTART:20250923T170000Z
SEQUENCE:0
TRANSP:OPAQUE
DTEND:20250923T183000Z
LOCATION:HSSdigital
SUMMARY:Online-Seminar für Frauen: Social Media - Ihre Stimme\, Ihre Platt
 form\, Ihre Möglichkeiten
CLASS:PUBLIC
DESCRIPTION:Veranstaltung: https://www.hss.de/veranstaltungen/online-semina
 r-fuer-frauen-social-media-ihre-stimme-ihre-plattform-ihre-moeglichkeiten-
 3250307913/\nMeine Veranstaltungen: https://www.hss.de/meine-veranstaltung
 en/
DTSTAMP:20260420T210847Z
END:VEVENT
END:VCALENDAR