BEGIN:VCALENDAR
VERSION:2.0
PRODID:www.hss.de
X-PUBLISHED-TTL:P1W
BEGIN:VEVENT
UID:69ea490c9a4a4
DTSTART:20211130T170000Z
SEQUENCE:0
TRANSP:OPAQUE
DTEND:20211130T190000Z
LOCATION:HSSdigital
SUMMARY:ONLINE-SEMINAR: Ich bin neu hier – Positive Willkommenskultur in 
 meiner Organisation gestalten
CLASS:PUBLIC
DESCRIPTION:Veranstaltung: https://www.hss.de/veranstaltungen/online-semina
 r-ich-bin-neu-hier-positive-willkommenskultur-in-meiner-organisation-gesta
 lten-3210301562/\nMeine Veranstaltungen: https://www.hss.de/meine-veransta
 ltungen/
DTSTAMP:20260423T163004Z
END:VEVENT
END:VCALENDAR