BEGIN:VCALENDAR
VERSION:2.0
PRODID:www.hss.de
X-PUBLISHED-TTL:P1W
BEGIN:VEVENT
UID:69ea66b671299
DTSTART:20260324T180000Z
SEQUENCE:0
TRANSP:OPAQUE
DTEND:20260324T193000Z
LOCATION:HSSdigital
SUMMARY:Online-Seminar Kommunalpolitik: Einführungswissen für Gemeinde-\,
  Stadt-\, und Kreisräte: Die Gemeindeorgane und Ihre Arbeit
CLASS:PUBLIC
DESCRIPTION:Veranstaltung: https://www.hss.de/veranstaltungen/online-semina
 r-kommunalpolitik-einfuehrungswissen-fuer-gemeinde-stadt-und-kreisraete-di
 e-gemeindeorgane-und-ihre-arbeit-3260307611/\nMeine Veranstaltungen: https
 ://www.hss.de/meine-veranstaltungen/
DTSTAMP:20260423T183638Z
END:VEVENT
END:VCALENDAR