BEGIN:VCALENDAR
VERSION:2.0
PRODID:www.hss.de
X-PUBLISHED-TTL:P1W
BEGIN:VEVENT
UID:69e5fc0eefa3b
DTSTART:20260420T170000Z
SEQUENCE:0
TRANSP:OPAQUE
DTEND:20260420T183000Z
LOCATION:HSSdigital
SUMMARY:Online-Seminar Kommunalpolitik: Einführungswissen für Gemeinde-\,
  Stadt-\, und Kreisräte: Fraktion und Ausschüsse
CLASS:PUBLIC
DESCRIPTION:Veranstaltung: https://www.hss.de/veranstaltungen/online-semina
 r-kommunalpolitik-einfuehrungswissen-fuer-gemeinde-stadt-und-kreisraete-fr
 aktion-und-ausschuesse-3260307612/\nMeine Veranstaltungen: https://www.hss
 .de/meine-veranstaltungen/
DTSTAMP:20260420T101231Z
END:VEVENT
END:VCALENDAR