BEGIN:VCALENDAR
VERSION:2.0
PRODID:www.hss.de
X-PUBLISHED-TTL:P1W
BEGIN:VEVENT
UID:69ebaffe0f9f5
DTSTART:20240411T140000Z
SEQUENCE:0
TRANSP:OPAQUE
DTEND:20240411T153000Z
LOCATION:HSSdigital
SUMMARY:Online-Seminar Kommunalpolitik: Fördergelder rechtssicher beantrag
 en\, verwenden und nachweisen
CLASS:PUBLIC
DESCRIPTION:Veranstaltung: https://www.hss.de/veranstaltungen/online-semina
 r-kommunalpolitik-foerdergelder-rechtssicher-beantragen-verwenden-und-nach
 weisen-3240307620/\nMeine Veranstaltungen: https://www.hss.de/meine-verans
 taltungen/
DTSTAMP:20260424T180134Z
END:VEVENT
END:VCALENDAR