BEGIN:VCALENDAR
VERSION:2.0
PRODID:www.hss.de
X-PUBLISHED-TTL:P1W
BEGIN:VEVENT
UID:69e793860ca43
DTSTART:20250513T180000Z
SEQUENCE:0
TRANSP:OPAQUE
DTEND:20250513T190000Z
LOCATION:HSSdigital
SUMMARY:Online-Seminar Kommunalpolitik: Kommunalpolitik persönlich - mit C
 hristian Keller\, Grafenrheinfeld
CLASS:PUBLIC
DESCRIPTION:Veranstaltung: https://www.hss.de/veranstaltungen/online-semina
 r-kommunalpolitik-kommunalpolitik-persoenlich-mit-christian-keller-grafenr
 heinfeld-3250307635/\nMeine Veranstaltungen: https://www.hss.de/meine-vera
 nstaltungen/
DTSTAMP:20260421T151102Z
END:VEVENT
END:VCALENDAR