BEGIN:VCALENDAR
VERSION:2.0
PRODID:www.hss.de
X-PUBLISHED-TTL:P1W
BEGIN:VEVENT
UID:69eacc2b86b12
DTSTART:20251105T170000Z
SEQUENCE:0
TRANSP:OPAQUE
DTEND:20251105T183000Z
LOCATION:HSSdigital
SUMMARY:Online-Seminar Kommunalpolitik: Konfliktmanagement- Umgang mit krit
 ischen Bürgern und politischen Gegnern
CLASS:PUBLIC
DESCRIPTION:Veranstaltung: https://www.hss.de/veranstaltungen/online-semina
 r-kommunalpolitik-konfliktmanagement-umgang-mit-kritischen-buergern-und-po
 litischen-gegnern-3250307600/\nMeine Veranstaltungen: https://www.hss.de/m
 eine-veranstaltungen/
DTSTAMP:20260424T014931Z
END:VEVENT
END:VCALENDAR