BEGIN:VCALENDAR
VERSION:2.0
PRODID:www.hss.de
X-PUBLISHED-TTL:P1W
BEGIN:VEVENT
UID:69e52016e4c75
DTSTART:20250916T160000Z
SEQUENCE:0
TRANSP:OPAQUE
DTEND:20250916T180000Z
LOCATION:HSSdigital
SUMMARY:Online-Seminar Kommunalpolitik: Mein Ort\, meine Wahl\, die Entsche
 idung – Kommunalwahl 2026 Teil 2
CLASS:PUBLIC
DESCRIPTION:Veranstaltung: https://www.hss.de/veranstaltungen/online-semina
 r-kommunalpolitik-mein-ort-meine-wahl-die-entscheidung-kommunalwahl-2026-t
 eil-2-3250307629/\nMeine Veranstaltungen: https://www.hss.de/meine-veranst
 altungen/
DTSTAMP:20260419T183359Z
END:VEVENT
END:VCALENDAR