BEGIN:VCALENDAR
VERSION:2.0
PRODID:www.hss.de
X-PUBLISHED-TTL:P1W
BEGIN:VEVENT
UID:69e522ad12e30
DTSTART:20220406T163000Z
SEQUENCE:0
TRANSP:OPAQUE
DTEND:20220406T180000Z
LOCATION:HSSdigital
SUMMARY:Online-Seminar: Kommunalpolitik - Meine Arbeit im Aufsichtsrat
CLASS:PUBLIC
DESCRIPTION:Veranstaltung: https://www.hss.de/veranstaltungen/online-semina
 r-kommunalpolitik-meine-arbeit-im-aufsichtsrat-3220307623/\nMeine Veransta
 ltungen: https://www.hss.de/meine-veranstaltungen/
DTSTAMP:20260419T184501Z
END:VEVENT
END:VCALENDAR