BEGIN:VCALENDAR
VERSION:2.0
PRODID:www.hss.de
X-PUBLISHED-TTL:P1W
BEGIN:VEVENT
UID:69e9e8ad6dff0
DTSTART:20260629T170000Z
SEQUENCE:0
TRANSP:OPAQUE
DTEND:20260629T183000Z
LOCATION:HSSdigital
SUMMARY:Online-Seminar Kommunalpolitik: Neue Aufsichtsräte für unsere Kra
 nkenhäuser - Schulung kompakt
CLASS:PUBLIC
DESCRIPTION:Veranstaltung: https://www.hss.de/veranstaltungen/online-semina
 r-kommunalpolitik-neue-aufsichtsraete-fuer-unsere-krankenhaeuser-schulung-
 kompakt-3260307624/\nMeine Veranstaltungen: https://www.hss.de/meine-veran
 staltungen/
DTSTAMP:20260423T093853Z
END:VEVENT
END:VCALENDAR