BEGIN:VCALENDAR
VERSION:2.0
PRODID:www.hss.de
X-PUBLISHED-TTL:P1W
BEGIN:VEVENT
UID:69ec9b48a1b03
DTSTART:20260611T170000Z
SEQUENCE:0
TRANSP:OPAQUE
DTEND:20260611T183000Z
LOCATION:HSSdigital
SUMMARY:Online-Seminar Kommunalpolitik: Umgang mit Fake News
CLASS:PUBLIC
DESCRIPTION:Veranstaltung: https://www.hss.de/veranstaltungen/online-semina
 r-kommunalpolitik-umgang-mit-fake-news-3260307628/\nMeine Veranstaltungen:
  https://www.hss.de/meine-veranstaltungen/
DTSTAMP:20260425T104528Z
END:VEVENT
END:VCALENDAR