BEGIN:VCALENDAR
VERSION:2.0
PRODID:www.hss.de
X-PUBLISHED-TTL:P1W
BEGIN:VEVENT
UID:69e596ec7c678
DTSTART:20260427T163000Z
SEQUENCE:0
TRANSP:OPAQUE
DTEND:20260427T180000Z
LOCATION:HSSdigital
SUMMARY:Online-Seminar Kommunalpolitik: Von der Kampagne bis zur Amtseinfü
 hrung – Der erfolgreiche Start als Bürgermeister/in
CLASS:PUBLIC
DESCRIPTION:Veranstaltung: https://www.hss.de/veranstaltungen/online-semina
 r-kommunalpolitik-von-der-kampagne-bis-zur-amtseinfuehrung-der-erfolgreich
 e-start-als-buergermeisterin-3260307634/\nMeine Veranstaltungen: https://w
 ww.hss.de/meine-veranstaltungen/
DTSTAMP:20260420T030100Z
END:VEVENT
END:VCALENDAR