BEGIN:VCALENDAR
VERSION:2.0
PRODID:www.hss.de
X-PUBLISHED-TTL:P1W
BEGIN:VEVENT
UID:69e4dc3a288fd
DTSTART:20240124T173000Z
SEQUENCE:0
TRANSP:OPAQUE
DTEND:20240124T185000Z
LOCATION:HSSdigital
SUMMARY:Online-Seminar: LETS START UP - Ideen\, Innovation und Initiierung 
 der Gründung
CLASS:PUBLIC
DESCRIPTION:Veranstaltung: https://www.hss.de/veranstaltungen/online-semina
 r-lets-start-up-ideen-innovation-und-initiierung-der-gruendung-3240302802/
 \nMeine Veranstaltungen: https://www.hss.de/meine-veranstaltungen/
DTSTAMP:20260419T134426Z
END:VEVENT
END:VCALENDAR