BEGIN:VCALENDAR
VERSION:2.0
PRODID:www.hss.de
X-PUBLISHED-TTL:P1W
BEGIN:VEVENT
UID:69e61116909cd
DTSTART:20201029T170000Z
SEQUENCE:0
TRANSP:OPAQUE
DTEND:20201029T190000Z
LOCATION:HSSdigital
SUMMARY:Online-Seminar: Migration und Flüchtlinge in Europa
CLASS:PUBLIC
DESCRIPTION:Veranstaltung: https://www.hss.de/veranstaltungen/online-semina
 r-migration-und-fluechtlinge-in-europa-3200306230/\nMeine Veranstaltungen:
  https://www.hss.de/meine-veranstaltungen/
DTSTAMP:20260420T114214Z
END:VEVENT
END:VCALENDAR