BEGIN:VCALENDAR
VERSION:2.0
PRODID:www.hss.de
X-PUBLISHED-TTL:P1W
BEGIN:VEVENT
UID:69eb5127d9d34
DTSTART:20210428T151500Z
SEQUENCE:0
TRANSP:OPAQUE
DTEND:20210428T164500Z
LOCATION:HSSdigital
SUMMARY:ONLINE-SEMINAR: NEXT GENERATION Mieten\, Kaufen & Bauen?
CLASS:PUBLIC
DESCRIPTION:Veranstaltung: https://www.hss.de/veranstaltungen/online-semina
 r-next-generation-mieten-kaufen-bauen-3210302868/\nMeine Veranstaltungen: 
 https://www.hss.de/meine-veranstaltungen/
DTSTAMP:20260424T111656Z
END:VEVENT
END:VCALENDAR