BEGIN:VCALENDAR
VERSION:2.0
PRODID:www.hss.de
X-PUBLISHED-TTL:P1W
BEGIN:VEVENT
UID:69e8ebefae7e8
DTSTART:20260613T130000Z
SEQUENCE:0
TRANSP:OPAQUE
DTEND:20260614T190000Z
LOCATION:HSSdigital
SUMMARY:Online-Seminar: Rhetorik - Begeisternd reden - geschickt argumentie
 ren!
CLASS:PUBLIC
DESCRIPTION:Veranstaltung: https://www.hss.de/veranstaltungen/online-semina
 r-rhetorik-begeisternd-reden-geschickt-argumentieren-3260307708/\nMeine Ve
 ranstaltungen: https://www.hss.de/meine-veranstaltungen/
DTSTAMP:20260422T154031Z
END:VEVENT
END:VCALENDAR