BEGIN:VCALENDAR
VERSION:2.0
PRODID:www.hss.de
X-PUBLISHED-TTL:P1W
BEGIN:VEVENT
UID:69e8dc3a72129
DTSTART:20210511T160000Z
SEQUENCE:0
TRANSP:OPAQUE
DTEND:20210511T173000Z
LOCATION:HSSdigital
SUMMARY:ONLINE-SEMINAR: Shabbat Shalom und Grüß Gott
CLASS:PUBLIC
DESCRIPTION:Veranstaltung: https://www.hss.de/veranstaltungen/online-semina
 r-shabbat-shalom-und-gruess-gott-3210305808/\nMeine Veranstaltungen: https
 ://www.hss.de/meine-veranstaltungen/
DTSTAMP:20260422T143330Z
END:VEVENT
END:VCALENDAR