BEGIN:VCALENDAR
VERSION:2.0
PRODID:www.hss.de
X-PUBLISHED-TTL:P1W
BEGIN:VEVENT
UID:69e8b9c5dd801
DTSTART:20230411T163000Z
SEQUENCE:0
TRANSP:OPAQUE
DTEND:20230411T180000Z
LOCATION:HSSdigital
SUMMARY:ONLINE-SEMINAR: Smart City und Citizen Experience Management
CLASS:PUBLIC
DESCRIPTION:Veranstaltung: https://www.hss.de/veranstaltungen/online-semina
 r-smart-city-und-citizen-experience-management-3230309085/\nMeine Veransta
 ltungen: https://www.hss.de/meine-veranstaltungen/
DTSTAMP:20260422T120630Z
END:VEVENT
END:VCALENDAR