BEGIN:VCALENDAR
VERSION:2.0
PRODID:www.hss.de
X-PUBLISHED-TTL:P1W
BEGIN:VEVENT
UID:69e9e299b3ea8
DTSTART:20250828T180000Z
SEQUENCE:0
TRANSP:OPAQUE
DTEND:20250828T190000Z
LOCATION:HSSdigital
SUMMARY:Online-Seminar: Spielend lernen - Kirche\, Kultur und Klang
CLASS:PUBLIC
DESCRIPTION:Veranstaltung: https://www.hss.de/veranstaltungen/online-semina
 r-spielend-lernen-kirche-kultur-und-klang-3250301608/\nMeine Veranstaltung
 en: https://www.hss.de/meine-veranstaltungen/
DTSTAMP:20260423T091257Z
END:VEVENT
END:VCALENDAR