BEGIN:VCALENDAR
VERSION:2.0
PRODID:www.hss.de
X-PUBLISHED-TTL:P1W
BEGIN:VEVENT
UID:69e64cda09c33
DTSTART:20260507T180000Z
SEQUENCE:0
TRANSP:OPAQUE
DTEND:20260507T190000Z
LOCATION:HSSdigital
SUMMARY:Online-Seminar: Spielend lernen - Trash oder Transformation? Medien
 landschaft im MADtv-Modus
CLASS:PUBLIC
DESCRIPTION:Veranstaltung: https://www.hss.de/veranstaltungen/online-semina
 r-spielend-lernen-trash-oder-transformation-medienlandschaft-im-madtv-modu
 s-3260301605/\nMeine Veranstaltungen: https://www.hss.de/meine-veranstaltu
 ngen/
DTSTAMP:20260420T155714Z
END:VEVENT
END:VCALENDAR