BEGIN:VCALENDAR
VERSION:2.0
PRODID:www.hss.de
X-PUBLISHED-TTL:P1W
BEGIN:VEVENT
UID:69e63cff17df9
DTSTART:20230711T140000Z
SEQUENCE:0
TRANSP:OPAQUE
DTEND:20230711T153000Z
LOCATION:HSSdigital
SUMMARY:Online-Seminar Weibliche Genitalbeschneidung (FGM/C) in Deutschland
 ? Auf ein Tabu-Thema richtig reagieren! 
CLASS:PUBLIC
DESCRIPTION:Veranstaltung: https://www.hss.de/veranstaltungen/online-semina
 r-weibliche-genitalbeschneidung-fgmc-in-deutschland-auf-ein-tabu-thema-ric
 htig-reagieren-3230302841/\nMeine Veranstaltungen: https://www.hss.de/mein
 e-veranstaltungen/
DTSTAMP:20260420T144935Z
END:VEVENT
END:VCALENDAR