BEGIN:VCALENDAR
VERSION:2.0
PRODID:www.hss.de
X-PUBLISHED-TTL:P1W
BEGIN:VEVENT
UID:69ea5d2be7137
DTSTART:20201113T170000Z
SEQUENCE:0
TRANSP:OPAQUE
DTEND:20201113T190000Z
LOCATION:HSSdigital
SUMMARY:ONLINE-SEMINAR: Welche Moral steckt in der Politik?
CLASS:PUBLIC
DESCRIPTION:Veranstaltung: https://www.hss.de/veranstaltungen/online-semina
 r-welche-moral-steckt-in-der-politik-3200303346/\nMeine Veranstaltungen: h
 ttps://www.hss.de/meine-veranstaltungen/
DTSTAMP:20260423T175556Z
END:VEVENT
END:VCALENDAR