BEGIN:VCALENDAR
VERSION:2.0
PRODID:www.hss.de
X-PUBLISHED-TTL:P1W
BEGIN:VEVENT
UID:69e970aca3e9b
DTSTART:20220426T163000Z
SEQUENCE:0
TRANSP:OPAQUE
DTEND:20220426T175500Z
LOCATION:HSSdigital
SUMMARY:Online-Seminar: Wer zahlt? Pflegeversicherung & Pflegefinanzierung 
 im Blick
CLASS:PUBLIC
DESCRIPTION:Veranstaltung: https://www.hss.de/veranstaltungen/online-semina
 r-wer-zahlt-pflegeversicherung-pflegefinanzierung-im-blick-3220302837/\nMe
 ine Veranstaltungen: https://www.hss.de/meine-veranstaltungen/
DTSTAMP:20260423T010652Z
END:VEVENT
END:VCALENDAR