BEGIN:VCALENDAR
VERSION:2.0
PRODID:www.hss.de
X-PUBLISHED-TTL:P1W
BEGIN:VEVENT
UID:69e546fdc8815
DTSTART:20210116T140000Z
SEQUENCE:0
TRANSP:OPAQUE
DTEND:20210116T180000Z
LOCATION:HSSdigital
SUMMARY:ONLINE-SEMINAR: Workshop Arbeitsmarkt 50plus
CLASS:PUBLIC
DESCRIPTION:Veranstaltung: https://www.hss.de/veranstaltungen/online-semina
 r-workshop-arbeitsmarkt-50plus-3210302801/\nMeine Veranstaltungen: https:/
 /www.hss.de/meine-veranstaltungen/
DTSTAMP:20260419T211957Z
END:VEVENT
END:VCALENDAR