BEGIN:VCALENDAR
VERSION:2.0
PRODID:www.hss.de
X-PUBLISHED-TTL:P1W
BEGIN:VEVENT
UID:69e6112c14b1b
DTSTART:20241230T180000Z
SEQUENCE:0
TRANSP:OPAQUE
DTEND:20241230T190000Z
LOCATION:HSSdigital
SUMMARY:Online-Seminar-YouTube: Internet of Things
CLASS:PUBLIC
DESCRIPTION:Veranstaltung: https://www.hss.de/veranstaltungen/online-semina
 r-youtube-internet-of-things-3240301812/\nMeine Veranstaltungen: https://w
 ww.hss.de/meine-veranstaltungen/
DTSTAMP:20260420T114236Z
END:VEVENT
END:VCALENDAR