BEGIN:VCALENDAR
VERSION:2.0
PRODID:www.hss.de
X-PUBLISHED-TTL:P1W
BEGIN:VEVENT
UID:69e6e0cbee057
DTSTART:20251202T170000Z
SEQUENCE:0
TRANSP:OPAQUE
DTEND:20251202T190000Z
LOCATION:HSSdigital
SUMMARY:Online-Seminar zum Verbraucherschutz: Online- und Social-Shopping 
 – Gefahren erkennen und sicher einkaufen
CLASS:PUBLIC
DESCRIPTION:Veranstaltung: https://www.hss.de/veranstaltungen/online-semina
 r-zum-verbraucherschutz-online-und-social-shopping-gefahren-erkennen-und-s
 icher-einkaufen-3250308017/\nMeine Veranstaltungen: https://www.hss.de/mei
 ne-veranstaltungen/
DTSTAMP:20260421T022828Z
END:VEVENT
END:VCALENDAR