BEGIN:VCALENDAR
VERSION:2.0
PRODID:www.hss.de
X-PUBLISHED-TTL:P1W
BEGIN:VEVENT
UID:69e6ab5ae9da1
DTSTART:20251118T170000Z
SEQUENCE:0
TRANSP:OPAQUE
DTEND:20251118T190000Z
LOCATION:HSSdigital
SUMMARY:Online-Seminar zum Verbraucherschutz: Rechtsirrtümer erkennen – 
 Was Sie im Alltag wirklich dürfen (und was nicht)
CLASS:PUBLIC
DESCRIPTION:Veranstaltung: https://www.hss.de/veranstaltungen/online-semina
 r-zum-verbraucherschutz-rechtsirrtuemer-erkennen-was-sie-im-alltag-wirklic
 h-duerfen-und-was-nicht-3250308016/\nMeine Veranstaltungen: https://www.hs
 s.de/meine-veranstaltungen/
DTSTAMP:20260420T224027Z
END:VEVENT
END:VCALENDAR