BEGIN:VCALENDAR
VERSION:2.0
PRODID:www.hss.de
X-PUBLISHED-TTL:P1W
BEGIN:VEVENT
UID:69ea3ec0100bc
DTSTART:20260507T160000Z
SEQUENCE:0
TRANSP:OPAQUE
DTEND:20260507T180000Z
LOCATION:HSSdigital
SUMMARY:Online-Seminar zum Verbraucherschutz: Rund ums Shoppen im digitalen
  Alltag - sicher einkaufen im Laden\, online und übersoziale Medien
CLASS:PUBLIC
DESCRIPTION:Veranstaltung: https://www.hss.de/veranstaltungen/online-semina
 r-zum-verbraucherschutz-rund-ums-shoppen-im-digitalen-alltag-sicher-einkau
 fen-im-laden-online-und-uebersoziale-medien-3260308019/\nMeine Veranstaltu
 ngen: https://www.hss.de/meine-veranstaltungen/
DTSTAMP:20260423T154608Z
END:VEVENT
END:VCALENDAR