BEGIN:VCALENDAR
VERSION:2.0
PRODID:www.hss.de
X-PUBLISHED-TTL:P1W
BEGIN:VEVENT
UID:69e4b868cd05d
DTSTART:20260506T173000Z
SEQUENCE:0
TRANSP:OPAQUE
DTEND:20260506T190000Z
LOCATION:HSSdigital
SUMMARY:Online-Seminar zur Energiepolitik: Probleme und Lösungen der Energ
 ieabhängigkeit Deutschlands
CLASS:PUBLIC
DESCRIPTION:Veranstaltung: https://www.hss.de/veranstaltungen/online-semina
 r-zur-energiepolitik-probleme-und-loesungen-der-energieabhaengigkeit-deuts
 chlands-3260307508/\nMeine Veranstaltungen: https://www.hss.de/meine-veran
 staltungen/
DTSTAMP:20260419T111136Z
END:VEVENT
END:VCALENDAR