BEGIN:VCALENDAR
VERSION:2.0
PRODID:www.hss.de
X-PUBLISHED-TTL:P1W
BEGIN:VEVENT
UID:69e595a0ddcd2
DTSTART:20260422T170000Z
SEQUENCE:0
TRANSP:OPAQUE
DTEND:20260422T183000Z
LOCATION:HSSdigital
SUMMARY:Online-Seminar zur Energiepolitik: Sind E-Autos jetzt attraktiv dur
 ch hohe Spritpreise\, neue Modelle und Anreize?
CLASS:PUBLIC
DESCRIPTION:Veranstaltung: https://www.hss.de/veranstaltungen/online-semina
 r-zur-energiepolitik-sind-e-autos-jetzt-attraktiv-durch-hohe-spritpreise-n
 eue-modelle-und-anreize-3260307507/\nMeine Veranstaltungen: https://www.hs
 s.de/meine-veranstaltungen/
DTSTAMP:20260420T025529Z
END:VEVENT
END:VCALENDAR