BEGIN:VCALENDAR
VERSION:2.0
PRODID:www.hss.de
X-PUBLISHED-TTL:P1W
BEGIN:VEVENT
UID:69e98b580b4dd
DTSTART:20261009T093000Z
SEQUENCE:0
TRANSP:OPAQUE
DTEND:20261009T110000Z
LOCATION:HSSdigital
SUMMARY:Online-Seminar zur Rhetorik: “Und in meinem Fall?!” Agiles Wuns
 chkonzert für kluge Fragen und klare Antworten
CLASS:PUBLIC
DESCRIPTION:Veranstaltung: https://www.hss.de/veranstaltungen/online-semina
 r-zur-rhetorik-und-in-meinem-fall-agiles-wunschkonzert-fuer-kluge-fragen-u
 nd-klare-antworten-3260307710/\nMeine Veranstaltungen: https://www.hss.de/
 meine-veranstaltungen/
DTSTAMP:20260423T030040Z
END:VEVENT
END:VCALENDAR