BEGIN:VCALENDAR
VERSION:2.0
PRODID:www.hss.de
X-PUBLISHED-TTL:P1W
BEGIN:VEVENT
UID:69e626a5a2862
DTSTART:20210812T160000Z
SEQUENCE:0
TRANSP:OPAQUE
DTEND:20210812T180000Z
LOCATION:HSSdigital
SUMMARY:Online-Seminar zur Umweltpolitik: Nachhaltige Zukunft - Klimawandel
  & Klimaschutz: Smart City - die nachhaltige Zukunft der Stadt
CLASS:PUBLIC
DESCRIPTION:Veranstaltung: https://www.hss.de/veranstaltungen/online-semina
 r-zur-umweltpolitik-nachhaltige-zukunft-klimawandel-klimaschutz-smart-city
 -die-nachhaltige-zukunft-der-stadt-3210308017/\nMeine Veranstaltungen: htt
 ps://www.hss.de/meine-veranstaltungen/
DTSTAMP:20260420T131414Z
END:VEVENT
END:VCALENDAR