BEGIN:VCALENDAR
VERSION:2.0
PRODID:www.hss.de
X-PUBLISHED-TTL:P1W
BEGIN:VEVENT
UID:69e4dc7f50426
DTSTART:20230725T110000Z
SEQUENCE:0
TRANSP:OPAQUE
DTEND:20230725T130000Z
LOCATION:München
SUMMARY:Patient und Arzt entscheiden gemeinsam! Bayern goes SDM
CLASS:PUBLIC
DESCRIPTION:Veranstaltung: https://www.hss.de/veranstaltungen/patient-und-a
 rzt-entscheiden-gemeinsam-bayern-goes-sdm-3230302412/\nMeine Veranstaltung
 en: https://www.hss.de/meine-veranstaltungen/
DTSTAMP:20260419T134535Z
END:VEVENT
END:VCALENDAR