BEGIN:VCALENDAR
VERSION:2.0
PRODID:www.hss.de
X-PUBLISHED-TTL:P1W
BEGIN:VEVENT
UID:69e923369f062
DTSTART:20241017T160000Z
SEQUENCE:0
TRANSP:OPAQUE
DTEND:20241017T173000Z
LOCATION:München
SUMMARY:Perspektivwechsel: Bürgerkrieg in Myanmar - ein zerspaltenes Land 
 ohne Zukunft? 
CLASS:PUBLIC
DESCRIPTION:Veranstaltung: https://www.hss.de/veranstaltungen/perspektivwec
 hsel-buergerkrieg-in-myanmar-ein-zerspaltenes-land-ohne-zukunft-5240525007
 /\nMeine Veranstaltungen: https://www.hss.de/meine-veranstaltungen/
DTSTAMP:20260422T193622Z
END:VEVENT
END:VCALENDAR