BEGIN:VCALENDAR
VERSION:2.0
PRODID:www.hss.de
X-PUBLISHED-TTL:P1W
BEGIN:VEVENT
UID:69e6ac09956aa
DTSTART:20240806T160000Z
SEQUENCE:0
TRANSP:OPAQUE
DTEND:20240806T173000Z
LOCATION:München
SUMMARY:Perspektivwechsel: Geopolitische Rivalität in Asien - Indonesien u
 nd Vietnam im Blickfeld 
CLASS:PUBLIC
DESCRIPTION:Veranstaltung: https://www.hss.de/veranstaltungen/perspektivwec
 hsel-geopolitische-rivalitaet-in-asien-indonesien-und-vietnam-im-blickfeld
 -5240525005/\nMeine Veranstaltungen: https://www.hss.de/meine-veranstaltun
 gen/
DTSTAMP:20260420T224321Z
END:VEVENT
END:VCALENDAR