BEGIN:VCALENDAR
VERSION:2.0
PRODID:www.hss.de
X-PUBLISHED-TTL:P1W
BEGIN:VEVENT
UID:69e6c92c139aa
DTSTART:20250227T170000Z
SEQUENCE:0
TRANSP:OPAQUE
DTEND:20250227T190000Z
LOCATION:München
SUMMARY:Perspektivwechsel: Perspektiven aus Nordostasien - Erwartungen an T
 rumps Rückkehr ins Weiße Haus
CLASS:PUBLIC
DESCRIPTION:Veranstaltung: https://www.hss.de/veranstaltungen/perspektivwec
 hsel-perspektiven-aus-nordostasien-erwartungen-an-trumps-rueckkehr-ins-wei
 sse-haus-5250526005/\nMeine Veranstaltungen: https://www.hss.de/meine-vera
 nstaltungen/
DTSTAMP:20260421T004740Z
END:VEVENT
END:VCALENDAR