BEGIN:VCALENDAR
VERSION:2.0
PRODID:www.hss.de
X-PUBLISHED-TTL:P1W
BEGIN:VEVENT
UID:69e90853cdf15
DTSTART:20220527T170000Z
SEQUENCE:0
TRANSP:OPAQUE
DTEND:20220529T100000Z
LOCATION:Bad Staffelstein
SUMMARY:Pflege aktuell & in der Praxis 
CLASS:PUBLIC
DESCRIPTION:Veranstaltung: https://www.hss.de/veranstaltungen/pflege-aktuel
 l-in-der-praxis-3220302011/\nMeine Veranstaltungen: https://www.hss.de/mei
 ne-veranstaltungen/
DTSTAMP:20260422T174139Z
END:VEVENT
END:VCALENDAR