BEGIN:VCALENDAR
VERSION:2.0
PRODID:www.hss.de
X-PUBLISHED-TTL:P1W
BEGIN:VEVENT
UID:69e4d59676a86
DTSTART:20230304T083000Z
SEQUENCE:0
TRANSP:OPAQUE
DTEND:20230304T133000Z
LOCATION:Würzburg
SUMMARY:Pflege zu Hause
CLASS:PUBLIC
DESCRIPTION:Veranstaltung: https://www.hss.de/veranstaltungen/pflege-zu-hau
 se-3230302500/\nMeine Veranstaltungen: https://www.hss.de/meine-veranstalt
 ungen/
DTSTAMP:20260419T131606Z
END:VEVENT
END:VCALENDAR