BEGIN:VCALENDAR
VERSION:2.0
PRODID:www.hss.de
X-PUBLISHED-TTL:P1W
BEGIN:VEVENT
UID:69e74d6d930c7
DTSTART:20260424T160000Z
SEQUENCE:0
TRANSP:OPAQUE
DTEND:20260426T120000Z
LOCATION:Bad Staffelstein
SUMMARY:Politisch Debattieren und politische Reden
CLASS:PUBLIC
DESCRIPTION:Veranstaltung: https://www.hss.de/veranstaltungen/politisch-deb
 attieren-und-politische-reden-3260303006/\nMeine Veranstaltungen: https://
 www.hss.de/meine-veranstaltungen/
DTSTAMP:20260421T101157Z
END:VEVENT
END:VCALENDAR