BEGIN:VCALENDAR
VERSION:2.0
PRODID:www.hss.de
X-PUBLISHED-TTL:P1W
BEGIN:VEVENT
UID:69eb9d5eba92d
DTSTART:20261104T170000Z
SEQUENCE:0
TRANSP:OPAQUE
DTEND:20261104T190000Z
LOCATION:HSSdigital
SUMMARY:Politische Partizipation als Instrument der wehrhaften Demokratie
CLASS:PUBLIC
DESCRIPTION:Veranstaltung: https://www.hss.de/veranstaltungen/politische-pa
 rtizipation-als-instrument-der-wehrhaften-demokratie-3260303311/\nMeine Ve
 ranstaltungen: https://www.hss.de/meine-veranstaltungen/
DTSTAMP:20260424T164206Z
END:VEVENT
END:VCALENDAR